BEGIN:VCALENDAR
BEGIN:VEVENT
SUMMARY:Vorlesetag
DTSTART;VALUE=DATE:20251121
DTEND;VALUE=DATE:20251121
UID:terminkalender-event_1762697216_154835.html
ORGANIZER:mailto:barbara.knoepfle@schule.hessen.de
END:VEVENT
BEGIN:VEVENT
SUMMARY:Theaterfahrt der 1./2. Klassen
DTSTART;VALUE=DATE:20251127
DTEND;VALUE=DATE:20251127
UID:terminkalender-event_1761313456_7965314.html
ORGANIZER:mailto:barbara.knoepfle@schule.hessen.de
END:VEVENT
BEGIN:VEVENT
SUMMARY:Übernachtung der Klassen 2a und 2b im Boglerhaus
DTSTART:20251204T120000
DTEND:20251205T100000
UID:terminkalender-event_1764739219_9705198.html
ORGANIZER:mailto:barbara.knoepfle@schule.hessen.de
END:VEVENT
BEGIN:VEVENT
SUMMARY:Weihnachtsfeier der BTS und KKS
DTSTART;VALUE=DATE:20251218
DTEND;VALUE=DATE:20251218
UID:terminkalender-event_1765556590_419106.html
ORGANIZER:mailto:barbara.knoepfle@schule.hessen.de
END:VEVENT
BEGIN:VEVENT
SUMMARY:Elternsprechtage
DTSTART;VALUE=DATE:20260209
DTEND;VALUE=DATE:20260212
UID:terminkalender-event_1762697399_261044.html
ORGANIZER:mailto:barbara.knoepfle@schule.hessen.de
END:VEVENT
BEGIN:VEVENT
SUMMARY:Schulfasching/Rosenmontag
DTSTART;VALUE=DATE:20260216
DTEND;VALUE=DATE:20260216
UID:terminkalender-event_1765197020_7446363.html
ORGANIZER:mailto:barbara.knoepfle@schule.hessen.de
END:VEVENT
BEGIN:VEVENT
SUMMARY:Osterferien
DTSTART;VALUE=DATE:20260330
DTEND;VALUE=DATE:20260410
UID:terminkalender-event_1762697500_6875868.html
ORGANIZER:mailto:barbara.knoepfle@schule.hessen.de
END:VEVENT
BEGIN:VEVENT
SUMMARY:Schulzahnarzt Knüllköpfchenschule
DTSTART;VALUE=DATE:20260414
DTEND;VALUE=DATE:20260414
UID:terminkalender-event_1761230436_946063.html
ORGANIZER:mailto:barbara.knoepfle@schule.hessen.de
END:VEVENT
BEGIN:VEVENT
SUMMARY:Wandertag Klasse 2 mit Rengshausen
DTSTART;VALUE=DATE:20260414
DTEND;VALUE=DATE:20260414
UID:terminkalender-event_1774622027_0166924.html
ORGANIZER:mailto:barbara.knoepfle@schule.hessen.de
END:VEVENT
BEGIN:VEVENT
SUMMARY:Kindersprechstunde Schwabo 1. Pause
DTSTART;VALUE=DATE:20260414
DTEND;VALUE=DATE:20260414
UID:terminkalender-event_1774621081_8330555.html
ORGANIZER:mailto:barbara.knoepfle@schule.hessen.de
END:VEVENT
BEGIN:VEVENT
SUMMARY:Schulzahnarzt BTS
DTSTART;VALUE=DATE:20260415
DTEND;VALUE=DATE:20260415
UID:terminkalender-event_1761230461_266098.html
ORGANIZER:mailto:barbara.knoepfle@schule.hessen.de
END:VEVENT
BEGIN:VEVENT
SUMMARY:Kindersprechstunde BTS 2. Pause
DTSTART;VALUE=DATE:20260416
DTEND;VALUE=DATE:20260416
UID:terminkalender-event_1774621117_8161802.html
ORGANIZER:mailto:barbara.knoepfle@schule.hessen.de
END:VEVENT
BEGIN:VEVENT
SUMMARY:Wandertag Klasse 1 mit Rengshausen
DTSTART;VALUE=DATE:20260421
DTEND;VALUE=DATE:20260421
UID:terminkalender-event_1774622001_8702295.html
ORGANIZER:mailto:barbara.knoepfle@schule.hessen.de
END:VEVENT
BEGIN:VEVENT
SUMMARY:Kindersprechstunde Schwabo 1. Pause
DTSTART;VALUE=DATE:20260421
DTEND;VALUE=DATE:20260421
UID:terminkalender-event_1774621241_864326.html
ORGANIZER:mailto:barbara.knoepfle@schule.hessen.de
END:VEVENT
BEGIN:VEVENT
SUMMARY:Wandertag_Wildpark Klasse 4
DTSTART;VALUE=DATE:20260422
DTEND;VALUE=DATE:20260422
UID:terminkalender-event_1774622094_9584312.html
ORGANIZER:mailto:barbara.knoepfle@schule.hessen.de
END:VEVENT
BEGIN:VEVENT
SUMMARY:Kindersprechstunde BTS 2. Pause
DTSTART;VALUE=DATE:20260423
DTEND;VALUE=DATE:20260423
UID:terminkalender-event_1774621286_9097857.html
ORGANIZER:mailto:barbara.knoepfle@schule.hessen.de
END:VEVENT
BEGIN:VEVENT
SUMMARY:Wandertag Klasse 3 mit Rengshausen
DTSTART;VALUE=DATE:20260423
DTEND;VALUE=DATE:20260423
UID:terminkalender-event_1774622059_5309422.html
ORGANIZER:mailto:barbara.knoepfle@schule.hessen.de
END:VEVENT
BEGIN:VEVENT
SUMMARY:Kindersprechstunde Schwabo 1. Pause
DTSTART;VALUE=DATE:20260428
DTEND;VALUE=DATE:20260428
UID:terminkalender-event_1774621259_6669989.html
ORGANIZER:mailto:barbara.knoepfle@schule.hessen.de
END:VEVENT
BEGIN:VEVENT
SUMMARY:Erlebnispädagogischer Tag Klasse 1
DTSTART;VALUE=DATE:20260429
DTEND;VALUE=DATE:20260429
UID:terminkalender-event_1774621881_1216536.html
ORGANIZER:mailto:barbara.knoepfle@schule.hessen.de
END:VEVENT
BEGIN:VEVENT
SUMMARY:Kindersprechstunde BTS 2. Pause
DTSTART;VALUE=DATE:20260430
DTEND;VALUE=DATE:20260430
UID:terminkalender-event_1774621316_5317543.html
ORGANIZER:mailto:barbara.knoepfle@schule.hessen.de
END:VEVENT
BEGIN:VEVENT
SUMMARY:Feiertag
DTSTART;VALUE=DATE:20260501
DTEND;VALUE=DATE:20260501
UID:terminkalender-event_1762697592_1777399.html
ORGANIZER:mailto:barbara.knoepfle@schule.hessen.de
END:VEVENT
BEGIN:VEVENT
SUMMARY:Kindersprechstunde Schwabo 1. Pause
DTSTART;VALUE=DATE:20260505
DTEND;VALUE=DATE:20260505
UID:terminkalender-event_1774621350_0850325.html
ORGANIZER:mailto:barbara.knoepfle@schule.hessen.de
END:VEVENT
BEGIN:VEVENT
SUMMARY:Kindersprechstunde BTS 2. Pause
DTSTART;VALUE=DATE:20260507
DTEND;VALUE=DATE:20260507
UID:terminkalender-event_1774621368_8952005.html
ORGANIZER:mailto:barbara.knoepfle@schule.hessen.de
END:VEVENT
BEGIN:VEVENT
SUMMARY:Klassenfahrt der 4. Klasse BTS
DTSTART;VALUE=DATE:20260511
DTEND;VALUE=DATE:20260513
UID:terminkalender-event_1761659701_4821496.html
ORGANIZER:mailto:barbara.knoepfle@schule.hessen.de
END:VEVENT
BEGIN:VEVENT
SUMMARY:Kindersprechstunde Schwabo 1. Pause
DTSTART;VALUE=DATE:20260512
DTEND;VALUE=DATE:20260512
UID:terminkalender-event_1774621433_3961577.html
ORGANIZER:mailto:barbara.knoepfle@schule.hessen.de
END:VEVENT
BEGIN:VEVENT
SUMMARY:Christi Himmelfahrt
DTSTART;VALUE=DATE:20260514
DTEND;VALUE=DATE:20260514
UID:terminkalender-event_1762697637_780653.html
ORGANIZER:mailto:barbara.knoepfle@schule.hessen.de
END:VEVENT
BEGIN:VEVENT
SUMMARY:beweglicher Ferientag
DTSTART;VALUE=DATE:20260515
DTEND;VALUE=DATE:20260515
UID:terminkalender-event_1762697660_5899324.html
ORGANIZER:mailto:barbara.knoepfle@schule.hessen.de
END:VEVENT
BEGIN:VEVENT
SUMMARY:Kindersprechstunde Schwabo 1. Pause
DTSTART;VALUE=DATE:20260519
DTEND;VALUE=DATE:20260519
UID:terminkalender-event_1774621457_6805217.html
ORGANIZER:mailto:barbara.knoepfle@schule.hessen.de
END:VEVENT
BEGIN:VEVENT
SUMMARY:Kindersprechstunde BTS 2. Pause
DTSTART;VALUE=DATE:20260521
DTEND;VALUE=DATE:20260521
UID:terminkalender-event_1774621483_9191961.html
ORGANIZER:mailto:barbara.knoepfle@schule.hessen.de
END:VEVENT
BEGIN:VEVENT
SUMMARY:Feiertag/Pfingsten
DTSTART;VALUE=DATE:20260525
DTEND;VALUE=DATE:20260525
UID:terminkalender-event_1762697697_9297974.html
ORGANIZER:mailto:barbara.knoepfle@schule.hessen.de
END:VEVENT
BEGIN:VEVENT
SUMMARY:Kindersprechstunde Schwabo 1. Pause
DTSTART;VALUE=DATE:20260526
DTEND;VALUE=DATE:20260526
UID:terminkalender-event_1774621538_5455067.html
ORGANIZER:mailto:barbara.knoepfle@schule.hessen.de
END:VEVENT
BEGIN:VEVENT
SUMMARY:Kindersprechstunde BTS 2. Pause
DTSTART;VALUE=DATE:20260528
DTEND;VALUE=DATE:20260528
UID:terminkalender-event_1774621514_3131535.html
ORGANIZER:mailto:barbara.knoepfle@schule.hessen.de
END:VEVENT
BEGIN:VEVENT
SUMMARY:Erlebnispädagogischer Tag Klasse 3
DTSTART;VALUE=DATE:20260529
DTEND;VALUE=DATE:20260529
UID:terminkalender-event_1774621932_0772452.html
ORGANIZER:mailto:barbara.knoepfle@schule.hessen.de
END:VEVENT
BEGIN:VEVENT
SUMMARY:Kindersprechstunde Schwabo 1. Pause
DTSTART;VALUE=DATE:20260602
DTEND;VALUE=DATE:20260602
UID:terminkalender-event_1774621576_8177092.html
ORGANIZER:mailto:barbara.knoepfle@schule.hessen.de
END:VEVENT
BEGIN:VEVENT
SUMMARY:Fronleichnam
DTSTART;VALUE=DATE:20260604
DTEND;VALUE=DATE:20260604
UID:terminkalender-event_1762697723_9885902.html
ORGANIZER:mailto:barbara.knoepfle@schule.hessen.de
END:VEVENT
BEGIN:VEVENT
SUMMARY:beweglicher Ferientag
DTSTART;VALUE=DATE:20260605
DTEND;VALUE=DATE:20260605
UID:terminkalender-event_1762697750_9395585.html
ORGANIZER:mailto:barbara.knoepfle@schule.hessen.de
END:VEVENT
BEGIN:VEVENT
SUMMARY:Bundesjugendspiele
DTSTART;VALUE=DATE:20260609
DTEND;VALUE=DATE:20260609
UID:terminkalender-event_1762697794_2539015.html
ORGANIZER:mailto:barbara.knoepfle@schule.hessen.de
END:VEVENT
BEGIN:VEVENT
SUMMARY:Brandschutzerziehung BTS
DTSTART;VALUE=DATE:20260610
DTEND;VALUE=DATE:20260612
UID:terminkalender-event_1774622305_5865936.html
ORGANIZER:mailto:barbara.knoepfle@schule.hessen.de
END:VEVENT
BEGIN:VEVENT
SUMMARY:Waldtag Klasse 4
DTSTART;VALUE=DATE:20260610
DTEND;VALUE=DATE:20260610
UID:terminkalender-event_1776589778_8414521.html
ORGANIZER:mailto:barbara.knoepfle@schule.hessen.de
END:VEVENT
BEGIN:VEVENT
SUMMARY:Kindersprechstunde BTS 2. Pause
DTSTART;VALUE=DATE:20260611
DTEND;VALUE=DATE:20260611
UID:terminkalender-event_1774621668_8143353.html
ORGANIZER:mailto:barbara.knoepfle@schule.hessen.de
END:VEVENT
BEGIN:VEVENT
SUMMARY:Kindersprechstunde Schwabo 1. Pause
DTSTART;VALUE=DATE:20260616
DTEND;VALUE=DATE:20260616
UID:terminkalender-event_1774621621_3235178.html
ORGANIZER:mailto:barbara.knoepfle@schule.hessen.de
END:VEVENT
BEGIN:VEVENT
SUMMARY:Erlebnispädagogischer Tag Klasse 2
DTSTART;VALUE=DATE:20260617
DTEND;VALUE=DATE:20260617
UID:terminkalender-event_1774621902_5460918.html
ORGANIZER:mailto:barbara.knoepfle@schule.hessen.de
END:VEVENT
BEGIN:VEVENT
SUMMARY:Kindersprechstunde BTS 2. Pause
DTSTART;VALUE=DATE:20260618
DTEND;VALUE=DATE:20260618
UID:terminkalender-event_1774621695_5745487.html
ORGANIZER:mailto:barbara.knoepfle@schule.hessen.de
END:VEVENT
BEGIN:VEVENT
SUMMARY:Sommerfest an der BTS und KKS
DTSTART;VALUE=DATE:20260619
DTEND;VALUE=DATE:20260619
UID:terminkalender-event_1762697182_9335787.html
ORGANIZER:mailto:barbara.knoepfle@schule.hessen.de
END:VEVENT
BEGIN:VEVENT
SUMMARY:Theater auf Burg Wallenstein
DTSTART;VALUE=DATE:20260623
DTEND;VALUE=DATE:20260623
UID:terminkalender-event_1765197147_8646593.html
ORGANIZER:mailto:barbara.knoepfle@schule.hessen.de
END:VEVENT
BEGIN:VEVENT
SUMMARY:Kindersprechstunde BTS 2. Pause
DTSTART;VALUE=DATE:20260625
DTEND;VALUE=DATE:20260625
UID:terminkalender-event_1774621719_5853937.html
ORGANIZER:mailto:barbara.knoepfle@schule.hessen.de
END:VEVENT
BEGIN:VEVENT
SUMMARY:Zeugnisausgabe
DTSTART;VALUE=DATE:20260626
DTEND;VALUE=DATE:20260626
UID:terminkalender-event_1774621786_807594.html
ORGANIZER:mailto:barbara.knoepfle@schule.hessen.de
END:VEVENT
END:VCALENDAR
